BEGIN:VCALENDAR
VERSION:2.0
PRODID:-//kardomokykla.lt - ECPv4.9.7//NONSGML v1.0//EN
CALSCALE:GREGORIAN
METHOD:PUBLISH
X-WR-CALNAME:kardomokykla.lt
X-ORIGINAL-URL:https://www.kardomokykla.lt
X-WR-CALDESC:Events for kardomokykla.lt
BEGIN:VTIMEZONE
TZID:"UTC"
BEGIN:STANDARD
TZOFFSETFROM:+0000
TZOFFSETTO:+0000
TZNAME:UTC
DTSTART:20220101T000000
END:STANDARD
END:VTIMEZONE
BEGIN:VEVENT
DTSTART;TZID="UTC":20221009T143000
DTEND;TZID="UTC":20221009T163000
DTSTAMP:20260419T164701
CREATED:20220920T134314Z
LAST-MODIFIED:20220920T134314Z
UID:1937-1665325800-1665333000@www.kardomokykla.lt
SUMMARY:Instruktorių ir mokinių kardo valdymo kursai su Maestro Linu Gudonavičiumi Kaune
DESCRIPTION:Instruktorių ir mokinių kardo valdymo kursai su Maestro Linu Gudonavičiumi Kaune. \n  \nVieta: Nemuno g. 47\, II aukštas. \nLaikas: 14:30 – 16:30 val. \n
URL:https://www.kardomokykla.lt/event/instruktoriu-ir-mokiniu-kardo-valdymo-kursai-su-maestro-linu-gudonaviciumi-kaune/
CATEGORIES:Renginiai
END:VEVENT
END:VCALENDAR