BEGIN:VCALENDAR
VERSION:2.0
PRODID:-//kardomokykla.lt - ECPv4.9.7//NONSGML v1.0//EN
CALSCALE:GREGORIAN
METHOD:PUBLISH
X-WR-CALNAME:kardomokykla.lt
X-ORIGINAL-URL:https://www.kardomokykla.lt
X-WR-CALDESC:Events for kardomokykla.lt
BEGIN:VTIMEZONE
TZID:"UTC"
BEGIN:STANDARD
TZOFFSETFROM:+0000
TZOFFSETTO:+0000
TZNAME:UTC
DTSTART:20220101T000000
END:STANDARD
END:VTIMEZONE
BEGIN:VEVENT
DTSTART;TZID="UTC":20221106T143000
DTEND;TZID="UTC":20221106T163000
DTSTAMP:20260419T151257
CREATED:20220920T135140Z
LAST-MODIFIED:20220920T135140Z
UID:1939-1667745000-1667752200@www.kardomokykla.lt
SUMMARY:Instruktorių ir mokinių kardo valdymo kursai Kaune su Maestro Linu Gudonavičiumi
DESCRIPTION:Instruktorių ir mokinių kardo valdymo kursai Kaune su Maestro Linu Gudonavičiumi. \n  \nVieta: Nemuno g. 47\, II aukštas. \nLaikas: 14:30 – 16:30 val. \n
URL:https://www.kardomokykla.lt/event/instruktoriu-ir-mokiniu-kardo-valdymo-kursai-kaune-su-maestro-linu-gudonaviciumi-3/
CATEGORIES:Renginiai
END:VEVENT
END:VCALENDAR