BEGIN:VCALENDAR
VERSION:2.0
PRODID:-//kardomokykla.lt - ECPv4.9.7//NONSGML v1.0//EN
CALSCALE:GREGORIAN
METHOD:PUBLISH
X-WR-CALNAME:kardomokykla.lt
X-ORIGINAL-URL:https://www.kardomokykla.lt
X-WR-CALDESC:Events for kardomokykla.lt
BEGIN:VTIMEZONE
TZID:"UTC"
BEGIN:STANDARD
TZOFFSETFROM:+0000
TZOFFSETTO:+0000
TZNAME:UTC
DTSTART:20220101T000000
END:STANDARD
END:VTIMEZONE
BEGIN:VEVENT
DTSTART;TZID="UTC":20220206T140000
DTEND;TZID="UTC":20220206T160000
DTSTAMP:20260420T034041
CREATED:20220110T205131Z
LAST-MODIFIED:20220110T205131Z
UID:1899-1644156000-1644163200@www.kardomokykla.lt
SUMMARY:Instruktorių ir mokinių kardo valdymo kursai Kaune su Maestro Linu Gudonavičiumi
DESCRIPTION:Instruktorių ir mokinių kardo valdymo kursai Kaune su Maestro Linu Gudinavičiumi. \nVieta: Nemuno g. 47\, II aukštas. \n
URL:https://www.kardomokykla.lt/event/instruktoriu-ir-mokiniu-kardo-valdymo-kursai-kaune-su-maestro-linu-gudonaviciumi-2/
CATEGORIES:Renginiai
END:VEVENT
END:VCALENDAR