BEGIN:VCALENDAR
VERSION:2.0
PRODID:-//kardomokykla.lt - ECPv4.9.7//NONSGML v1.0//EN
CALSCALE:GREGORIAN
METHOD:PUBLISH
X-WR-CALNAME:kardomokykla.lt
X-ORIGINAL-URL:https://www.kardomokykla.lt
X-WR-CALDESC:Events for kardomokykla.lt
BEGIN:VTIMEZONE
TZID:"UTC"
BEGIN:STANDARD
TZOFFSETFROM:+0000
TZOFFSETTO:+0000
TZNAME:UTC
DTSTART:20220101T000000
END:STANDARD
END:VTIMEZONE
BEGIN:VEVENT
DTSTART;TZID="UTC":20220402T140000
DTEND;TZID="UTC":20220402T160000
DTSTAMP:20260419T235652
CREATED:20220110T205316Z
LAST-MODIFIED:20220110T205316Z
UID:1903-1648908000-1648915200@www.kardomokykla.lt
SUMMARY:Instruktorių ir mokinių kardo valdymo kursai Kaune su Maestro Linu Gudinavičiumi
DESCRIPTION:Instruktorių ir mokinių kardo valdymo kursai Kaune su Maestro Linu Gudinavičiumi. \n
URL:https://www.kardomokykla.lt/event/instruktoriu-ir-mokiniu-kardo-valdymo-kursai-kaune-su-maestro-linu-gudinaviciumi-2/
CATEGORIES:Renginiai
END:VEVENT
END:VCALENDAR